BEGIN:VCALENDAR
CALSCALE:GREGORIAN
VERSION:2.0
METHOD:PUBLISH 
X-WR-CALNAME:
BEGIN:VEVENT
DTSTART;TZID=Europe/Paris:20261010T203000
DTEND;TZID=Europe/Paris:20261010T213000
SUMMARY:Chantal Ladesou - Le Retour
CATEGORIE:Spectacles et théâtre
GEO:48.15433965733100;-1.69706341605000
LOCATION:L'EMC2\, Rue Simone Veil\, 35760 Saint-Grégoire\, France
URL:https://www.fest.fr/e/2364983
UID:2364983-1@fest.fr
END:VEVENT
END:VCALENDAR
