BEGIN:VCALENDAR
CALSCALE:GREGORIAN
VERSION:2.0
METHOD:PUBLISH 
X-WR-CALNAME:
BEGIN:VEVENT
DTSTART;TZID=Europe/Paris:20260424T103000
DTEND;TZID=Europe/Paris:20260424T113000
SUMMARY:Visite Guidée : Le Château de Solages
CATEGORIE:Expositions, Visites et Découvertes
GEO:45.19789700000000;5.13986900000000
LOCATION:330 route du château
Devant le château
St Bonnet de Valclérieux\, 26350 Valherbasse\, France
URL:https://www.fest.fr/e/2364923
UID:2364923-1@fest.fr
END:VEVENT
END:VCALENDAR
