BEGIN:VCALENDAR
CALSCALE:GREGORIAN
VERSION:2.0
METHOD:PUBLISH 
X-WR-CALNAME:
BEGIN:VEVENT
DTSTART;TZID=Europe/Paris:20260417T100000
DTEND;TZID=Europe/Paris:20260417T110000
SUMMARY:Journée « découverte de la pêche »
CATEGORIE:Stages, Ateliers et Initiations
GEO:45.67334600000000;-0.93547800000000
LOCATION:27 quai Jules Dufaure
Maison de la pêche\, 17600 Saujon\, France
URL:https://www.fest.fr/e/2364863
UID:2364863-1@fest.fr
END:VEVENT
END:VCALENDAR
