BEGIN:VCALENDAR
CALSCALE:GREGORIAN
VERSION:2.0
METHOD:PUBLISH 
X-WR-CALNAME:
BEGIN:VEVENT
DTSTART;TZID=Europe/Paris:20260315T090000
DTEND;TZID=Europe/Paris:20260315T100000
SUMMARY:Vide dressing de l'agas
CATEGORIE:Brocantes, Bourses et Vide-Greniers
GEO:44.33447643320324;2.57594700832120
LOCATION:Salle Polyvalente du Puech\, 11 avenue du Ségala\, 12000 Le Monastère\, France
URL:https://www.fest.fr/e/2364498
UID:2364498-1@fest.fr
END:VEVENT
END:VCALENDAR
