BEGIN:VCALENDAR
CALSCALE:GREGORIAN
VERSION:2.0
METHOD:PUBLISH 
X-WR-CALNAME:
BEGIN:VEVENT
DTSTART;TZID=Europe/Paris:20260422T100000
DTEND;TZID=Europe/Paris:20260422T110000
SUMMARY:VIRE/14 : Les oiseaux de l'arboretum
CATEGORIE:Randonnées et balades
GEO:48.79186100000000;-0.84658000000000
LOCATION:arboretum Maisoncelles-la-Jourdan\, Maisoncelles-la-Jourdan\, 14500 Vire-Normandie\, France
URL:https://www.fest.fr/e/2364393
UID:2364393-1@fest.fr
END:VEVENT
END:VCALENDAR
