BEGIN:VCALENDAR
CALSCALE:GREGORIAN
VERSION:2.0
METHOD:PUBLISH 
X-WR-CALNAME:
BEGIN:VEVENT
DTSTART;TZID=Europe/Paris:20261008T203000
DTEND;TZID=Europe/Paris:20261008T213000
SUMMARY:Pierre-Emmanuel Barré - Come Back (Tournée)
CATEGORIE:Spectacles et théâtre
GEO:49.23965039436000;3.98746669956000
LOCATION:Le K\, 20 rue du Val Clair\, 51100 Reims\, France
URL:https://www.fest.fr/e/2364342
UID:2364342-1@fest.fr
END:VEVENT
END:VCALENDAR
