BEGIN:VCALENDAR
CALSCALE:GREGORIAN
VERSION:2.0
METHOD:PUBLISH 
X-WR-CALNAME:
BEGIN:VEVENT
DTSTART;TZID=Europe/Paris:20260313T180000
DTEND;TZID=Europe/Paris:20260313T190000
SUMMARY:St Patrick
CATEGORIE:Fêtes et Animations
GEO:47.90099500000000;-3.90710700000000
LOCATION:Brasserie Tri Martolod\, ZA de Colguen Rue Aimé Césaire\, 29900 Concarneau\, France
URL:https://www.fest.fr/e/2364066
UID:2364066-1@fest.fr
END:VEVENT
END:VCALENDAR
