BEGIN:VCALENDAR
CALSCALE:GREGORIAN
VERSION:2.0
METHOD:PUBLISH 
X-WR-CALNAME:
BEGIN:VEVENT
DTSTART;TZID=Europe/Paris:20260420T090000
DTEND;TZID=Europe/Paris:20260420T100000
SUMMARY:Stage multi-activité
CATEGORIE:Stages, Ateliers et Initiations
GEO:48.72272600000000;-3.97615800000000
LOCATION:1 bis Rue Capitaine Coadou
Centre Nautique\, 29680 Roscoff\, France
URL:https://www.fest.fr/e/2364027
UID:2364027-1@fest.fr
END:VEVENT
END:VCALENDAR
