BEGIN:VCALENDAR
CALSCALE:GREGORIAN
VERSION:2.0
METHOD:PUBLISH 
X-WR-CALNAME:
BEGIN:VEVENT
DTSTART;TZID=Europe/Paris:20260418T103000
DTEND;TZID=Europe/Paris:20260418T113000
SUMMARY:Les racontines – 0 à 3 ans
CATEGORIE:Littérature
GEO:48.46840780000000;-2.51901050000000
LOCATION:14 rue Père Ange Le Proust
Bibliothèque\, 22400 Lamballe-Armor\, France
URL:https://www.fest.fr/e/2364026
UID:2364026-1@fest.fr
END:VEVENT
END:VCALENDAR
