BEGIN:VCALENDAR
CALSCALE:GREGORIAN
VERSION:2.0
METHOD:PUBLISH 
X-WR-CALNAME:
BEGIN:VEVENT
DTSTART;TZID=Europe/Paris:20260428T203000
DTEND;TZID=Europe/Paris:20260428T213000
SUMMARY:Tandem
CATEGORIE:Spectacles et Théâtre
GEO:43.58992400000000;5.47841700000000
LOCATION:55 avenue de la grande bégude
Pôle culturel l'Étincelle\, 13770 Venelles\, France
URL:https://www.fest.fr/e/2363775
UID:2363775-1@fest.fr
END:VEVENT
END:VCALENDAR
