BEGIN:VCALENDAR
CALSCALE:GREGORIAN
VERSION:2.0
METHOD:PUBLISH 
X-WR-CALNAME:
BEGIN:VEVENT
DTSTART;TZID=Europe/Paris:20260329T100000
DTEND;TZID=Europe/Paris:20260329T110000
SUMMARY:Chasse aux oeufs
CATEGORIE:Jeux et Concours
GEO:48.63120297217270;7.62103512698365
LOCATION:7 Chemin de la Souffel\, 67370 Stutzheim-Offenheim\, France
URL:https://www.fest.fr/e/2363696
UID:2363696-1@fest.fr
END:VEVENT
END:VCALENDAR
