BEGIN:VCALENDAR
CALSCALE:GREGORIAN
VERSION:2.0
METHOD:PUBLISH 
X-WR-CALNAME:
BEGIN:VEVENT
DTSTART;TZID=Europe/Paris:20260312T203000
DTEND;TZID=Europe/Paris:20260312T213000
SUMMARY:Herman Dune + Barbara Forstner
CATEGORIE:Concerts et Musique
GEO:49.89905000000000;2.27527720000000
LOCATION:17 Quai Bélu\, 80000 Amiens\, France
URL:https://www.fest.fr/e/2363449
UID:2363449-1@fest.fr
END:VEVENT
END:VCALENDAR
