BEGIN:VCALENDAR
CALSCALE:GREGORIAN
VERSION:2.0
METHOD:PUBLISH 
X-WR-CALNAME:
BEGIN:VEVENT
DTSTART;TZID=Europe/Paris:20260621T190000
DTEND;TZID=Europe/Paris:20260621T200000
SUMMARY:Festival nuits carrées 21juin
CATEGORIE:Concerts et Musique
GEO:43.58358600000000;7.12626300000000
LOCATION:22 avenue de verdun
Esplanade du pré des pêcheurs\, 06600 Antibes\, France
URL:https://www.fest.fr/e/2363321
UID:2363321-1@fest.fr
END:VEVENT
END:VCALENDAR
