BEGIN:VCALENDAR
CALSCALE:GREGORIAN
VERSION:2.0
METHOD:PUBLISH 
X-WR-CALNAME:
BEGIN:VEVENT
DTSTART;TZID=Europe/Paris:20261220T173000
DTEND;TZID=Europe/Paris:20261220T183000
SUMMARY:Hiba Tawaji Invite Ibrahim Maalouf - Tournée
CATEGORIE:Concerts et musique
GEO:46.32503145140100;4.84253562714600
LOCATION:Le Spot\, Av. Pierre Bérégovoy\, 71000 Mâcon\, France
URL:https://www.fest.fr/e/2363184
UID:2363184-1@fest.fr
END:VEVENT
END:VCALENDAR
