BEGIN:VCALENDAR
CALSCALE:GREGORIAN
VERSION:2.0
METHOD:PUBLISH 
X-WR-CALNAME:
BEGIN:VEVENT
DTSTART;TZID=Europe/Paris:20260307T100000
DTEND;TZID=Europe/Paris:20260307T110000
SUMMARY:Fringothèque solidaire à la bibliothèque Bordeaux-Lac
CATEGORIE:Social et solidaire
GEO:44.87401800000000;-0.57272400000000
LOCATION:Bibliothèque Bordeaux-Lac\, Place Ginette Neveu\, 33300 Bordeaux\, France
URL:https://www.fest.fr/e/2363151
UID:2363151-1@fest.fr
END:VEVENT
END:VCALENDAR
