BEGIN:VCALENDAR
CALSCALE:GREGORIAN
VERSION:2.0
METHOD:PUBLISH 
X-WR-CALNAME:
BEGIN:VEVENT
DTSTART;TZID=Europe/Paris:20260313T200000
DTEND;TZID=Europe/Paris:20260313T210000
SUMMARY:Pilleurs de terre
CATEGORIE:Spectacles et Théâtre
GEO:48.68900000000000;6.17880000000000
LOCATION:Cameo Saint Sébastien\, 6, rue Leopold-Lallement\, 54100 Nancy\, France
URL:https://www.fest.fr/e/2362745
UID:2362745-1@fest.fr
END:VEVENT
END:VCALENDAR
