BEGIN:VCALENDAR
CALSCALE:GREGORIAN
VERSION:2.0
METHOD:PUBLISH 
X-WR-CALNAME:
BEGIN:VEVENT
DTSTART;TZID=Europe/Paris:20261212T100000
DTEND;TZID=Europe/Paris:20261212T110000
SUMMARY:Création d'un spectacle mêlant marionnettes et musique
CATEGORIE:Spectacles et Théâtre
GEO:47.14502820000000;2.21557970000000
LOCATION:13 Rue Emile Zola\, 18500 Mehun-sur-Yèvre\, France
URL:https://www.fest.fr/e/2361950
UID:2361950-1@fest.fr
END:VEVENT
END:VCALENDAR
