BEGIN:VCALENDAR
CALSCALE:GREGORIAN
VERSION:2.0
METHOD:PUBLISH 
X-WR-CALNAME:
BEGIN:VEVENT
DTSTART;TZID=Europe/Paris:20260811T140000
DTEND;TZID=Europe/Paris:20260811T150000
SUMMARY:Atelier Nature au pas des ânes : encre végétale
CATEGORIE:Stages, Ateliers et Initiations
GEO:46.86904040000000;2.57312010000000
LOCATION:La Cloix d'en Bas\, 18130 Dun-sur-Auron\, France
URL:https://www.fest.fr/e/2361919
UID:2361919-1@fest.fr
END:VEVENT
END:VCALENDAR
