BEGIN:VCALENDAR
CALSCALE:GREGORIAN
VERSION:2.0
METHOD:PUBLISH 
X-WR-CALNAME:
BEGIN:VEVENT
DTSTART;TZID=Europe/Paris:20260307T163000
DTEND;TZID=Europe/Paris:20260307T173000
SUMMARY:Finissage de l'exposition "Inspiration végétale"
CATEGORIE:Expositions, Visites et Découvertes
GEO:45.93963100000000;6.76726700000000
LOCATION:2231 route du Mont
Maison du Lieutenant\, 74310 Servoz\, France
URL:https://www.fest.fr/e/2361840
UID:2361840-1@fest.fr
END:VEVENT
END:VCALENDAR
