BEGIN:VCALENDAR
CALSCALE:GREGORIAN
VERSION:2.0
METHOD:PUBLISH 
X-WR-CALNAME:
BEGIN:VEVENT
DTSTART;TZID=Europe/Paris:20260314T203000
DTEND;TZID=Europe/Paris:20260314T213000
SUMMARY:Annulé | Spectacle " On n'a pas l'égalité mais on a des idées"
CATEGORIE:Spectacles et Théâtre
GEO:45.69259700000000;-0.32662400000000
LOCATION:16 rue du 14 Juillet
La Salamandre | Centre de Congrès\, 16100 Cognac\, France
URL:https://www.fest.fr/e/2361735
UID:2361735-1@fest.fr
END:VEVENT
END:VCALENDAR
