BEGIN:VCALENDAR
CALSCALE:GREGORIAN
VERSION:2.0
METHOD:PUBLISH 
X-WR-CALNAME:
BEGIN:VEVENT
DTSTART;TZID=Europe/Paris:20260312T143000
DTEND;TZID=Europe/Paris:20260312T153000
SUMMARY:Concert d'aprem' - L'oléfan
CATEGORIE:Concerts et Musique
GEO:47.34568500000000;5.05964100000000
LOCATION:La Vapeur\, 42 avenue de Stalingrad\, 21000 Dijon\, France
URL:https://www.fest.fr/e/2361530
UID:2361530-1@fest.fr
END:VEVENT
BEGIN:VEVENT
DTSTART;TZID=Europe/Paris:20260312T173000
DTEND;TZID=Europe/Paris:20260312T183000
SUMMARY:Concert d'aprem' - L'oléfan
CATEGORIE:Concerts et Musique
GEO:47.34568500000000;5.05964100000000
LOCATION:La Vapeur\, 42 avenue de Stalingrad\, 21000 Dijon\, France
URL:https://www.fest.fr/e/2361530
UID:2361530-2@fest.fr
END:VEVENT
END:VCALENDAR
