BEGIN:VCALENDAR
CALSCALE:GREGORIAN
VERSION:2.0
METHOD:PUBLISH 
X-WR-CALNAME:
BEGIN:VEVENT
DTSTART;TZID=Europe/Paris:20260509T160000
DTEND;TZID=Europe/Paris:20260509T170000
SUMMARY:Projection, À musée vous, à musée moi, saison 3
CATEGORIE:Spectacles et Théâtre
GEO:46.45466080000000;-1.16758430000000
LOCATION:4 rue Pierre Forget
La Distylerie\, 85400 Luçon\, France
URL:https://www.fest.fr/e/2361273
UID:2361273-1@fest.fr
END:VEVENT
END:VCALENDAR
