BEGIN:VCALENDAR
CALSCALE:GREGORIAN
VERSION:2.0
METHOD:PUBLISH 
X-WR-CALNAME:
BEGIN:VEVENT
DTSTART;TZID=Europe/Paris:20260711T123456
DTEND;TZID=Europe/Paris:20260711T133456
SUMMARY:[Street-art] Festival Spray
CATEGORIE:Fêtes et Animations
GEO:49.93223780000000;1.08363990000000
LOCATION:Front de mer\, 76200 Dieppe\, France
URL:https://www.fest.fr/e/2361157
UID:2361157-1@fest.fr
END:VEVENT
END:VCALENDAR
