BEGIN:VCALENDAR
CALSCALE:GREGORIAN
VERSION:2.0
METHOD:PUBLISH 
X-WR-CALNAME:
BEGIN:VEVENT
DTSTART;TZID=Europe/Paris:20261202T143000
DTEND;TZID=Europe/Paris:20261202T153000
SUMMARY:Atelier seniors "Découverte de la vannerie d'osier"
CATEGORIE:Stages, Ateliers et Initiations
GEO:48.39140959000000;4.52674192000000
LOCATION:2 rue de Loménie\, 10500 Brienne-le-Château\, France
URL:https://www.fest.fr/e/2361104
UID:2361104-1@fest.fr
END:VEVENT
END:VCALENDAR
