BEGIN:VCALENDAR
CALSCALE:GREGORIAN
VERSION:2.0
METHOD:PUBLISH 
X-WR-CALNAME:
BEGIN:VEVENT
DTSTART;TZID=Europe/Paris:20260901T140000
DTEND;TZID=Europe/Paris:20260901T150000
SUMMARY:Section Reliure | Jacquemart
CATEGORIE:Stages, Ateliers et Initiations
GEO:45.09799500000000;3.49641100000000
LOCATION:Médiathèque\, 43300 Langeac\, France
URL:https://www.fest.fr/e/2360702
UID:2360702-1@fest.fr
END:VEVENT
END:VCALENDAR
