BEGIN:VCALENDAR
CALSCALE:GREGORIAN
VERSION:2.0
METHOD:PUBLISH 
X-WR-CALNAME:
BEGIN:VEVENT
DTSTART;TZID=Europe/Paris:20260901T170000
DTEND;TZID=Europe/Paris:20260901T180000
SUMMARY:Section Occitan (Patois) | Jacquemart
CATEGORIE:Stages, Ateliers et Initiations
GEO:45.10314000000000;3.49403200000000
LOCATION:Mille Clubs\, 43300 Langeac\, France
URL:https://www.fest.fr/e/2360541
UID:2360541-1@fest.fr
END:VEVENT
END:VCALENDAR
