BEGIN:VCALENDAR
CALSCALE:GREGORIAN
VERSION:2.0
METHOD:PUBLISH 
X-WR-CALNAME:
BEGIN:VEVENT
DTSTART;TZID=Europe/Paris:20260613T200000
DTEND;TZID=Europe/Paris:20260613T210000
SUMMARY:Dîner spectacle au Casino - Coup de cœur
CATEGORIE:Concerts et Musique
GEO:45.97800300000000;5.59689700000000
LOCATION:380 boulevard Frédéric Dumarest
Casino d'Hauteville-Lompnes
Hauteville-Lompnes\, 01110 Plateau d'Hauteville\, France
URL:https://www.fest.fr/e/2360305
UID:2360305-1@fest.fr
END:VEVENT
END:VCALENDAR
