BEGIN:VCALENDAR
CALSCALE:GREGORIAN
VERSION:2.0
METHOD:PUBLISH 
X-WR-CALNAME:
BEGIN:VEVENT
DTSTART;TZID=Europe/Paris:20260411T123456
DTEND;TZID=Europe/Paris:20260411T133456
SUMMARY:Exposition Canine
CATEGORIE:Marchés, Foires et Salons
GEO:45.73128800000000;4.95444800000000
LOCATION:Boulevard de l'Europe
Eurexpo - Parc des Expositions\, 69680 Chassieu\, France
URL:https://www.fest.fr/e/2360104
UID:2360104-1@fest.fr
END:VEVENT
END:VCALENDAR
