BEGIN:VCALENDAR
CALSCALE:GREGORIAN
VERSION:2.0
METHOD:PUBLISH 
X-WR-CALNAME:
BEGIN:VEVENT
DTSTART;TZID=Europe/Paris:20260326T210000
DTEND;TZID=Europe/Paris:20260326T220000
SUMMARY:Cinéma à Lauzerte : "Empire of light"
CATEGORIE:Spectacles et Théâtre
GEO:44.25376400000000;1.13897400000000
LOCATION:allée de Ruppé
salle des fêtes (salle Tournesol)\, 82110 Lauzerte\, France
URL:https://www.fest.fr/e/2359885
UID:2359885-1@fest.fr
END:VEVENT
END:VCALENDAR
