BEGIN:VCALENDAR
CALSCALE:GREGORIAN
VERSION:2.0
METHOD:PUBLISH 
X-WR-CALNAME:
BEGIN:VEVENT
DTSTART;TZID=Europe/Paris:20260307T093000
DTEND;TZID=Europe/Paris:20260307T103000
SUMMARY:Journée Familles du Tauzin
CATEGORIE:Fêtes et Animations
GEO:44.82051200000000;-0.60192600000000
LOCATION:Le Tauzin\, 50 rue du Tauzin\, 33000 Bordeaux\, France
URL:https://www.fest.fr/e/2359590
UID:2359590-1@fest.fr
END:VEVENT
END:VCALENDAR
