BEGIN:VCALENDAR
CALSCALE:GREGORIAN
VERSION:2.0
METHOD:PUBLISH 
X-WR-CALNAME:
BEGIN:VEVENT
DTSTART;TZID=Europe/Paris:20260606T123456
DTEND;TZID=Europe/Paris:20260606T133456
SUMMARY:Color Run à Auffay
CATEGORIE:Sports
GEO:49.71802160000000;1.08283598000000
LOCATION:1880 Hameau de Mesnil Sauval
stade\, 76720 Val-de-Scie\, France
URL:https://www.fest.fr/e/2359280
UID:2359280-1@fest.fr
END:VEVENT
END:VCALENDAR
