BEGIN:VCALENDAR
CALSCALE:GREGORIAN
VERSION:2.0
METHOD:PUBLISH 
X-WR-CALNAME:
BEGIN:VEVENT
DTSTART;TZID=Europe/Paris:20260404T143000
DTEND;TZID=Europe/Paris:20260404T153000
SUMMARY:Découverte du chantier de la Basse Saâne
CATEGORIE:Expositions, Visites et Découvertes
GEO:49.90440960000000;0.92419040000000
LOCATION:12 Rue de la Saâne
Office de Tourisme\, 76860 Quiberville\, France
URL:https://www.fest.fr/e/2359241
UID:2359241-1@fest.fr
END:VEVENT
END:VCALENDAR
