BEGIN:VCALENDAR
CALSCALE:GREGORIAN
VERSION:2.0
METHOD:PUBLISH 
X-WR-CALNAME:
BEGIN:VEVENT
DTSTART;TZID=Europe/Paris:20260911T180000
DTEND;TZID=Europe/Paris:20260911T190000
SUMMARY:A la rencontre de George Sand et de son univers artistique
CATEGORIE:Conférences, Forums et Débats
GEO:47.17955270000000;2.15919270000000
LOCATION:20 rue Gaston Cornavin\, 18500 Foëcy\, France
URL:https://www.fest.fr/e/2359159
UID:2359159-1@fest.fr
END:VEVENT
END:VCALENDAR
