BEGIN:VCALENDAR
CALSCALE:GREGORIAN
VERSION:2.0
METHOD:PUBLISH 
X-WR-CALNAME:
BEGIN:VEVENT
DTSTART;TZID=Europe/Paris:20260419T123456
DTEND;TZID=Europe/Paris:20260419T133456
SUMMARY:Balade en pirogue en Baie de Canche
CATEGORIE:Randonnées et balades
GEO:50.53575500000000;1.59342800000000
LOCATION:Accueil du Centre Nautique de la Baie de Canche Avenue Jean Ruet\, 62520 Le Touquet-Paris-Plage\, France
URL:https://www.fest.fr/e/2358968
UID:2358968-1@fest.fr
END:VEVENT
END:VCALENDAR
