BEGIN:VCALENDAR
CALSCALE:GREGORIAN
VERSION:2.0
METHOD:PUBLISH 
X-WR-CALNAME:
BEGIN:VEVENT
DTSTART;TZID=Europe/Paris:20260720T123456
DTEND;TZID=Europe/Paris:20260720T133456
SUMMARY:AEICW : Conférence -  Y a-t-il un folklore boulonnais ?
CATEGORIE:Conférences, Forums et Débats
GEO:50.77199100000000;1.60993500000000
LOCATION:Salons des jardins de la baie St Jean rue sainte Adrienne\, 62930 Wimereux\, France
URL:https://www.fest.fr/e/2358959
UID:2358959-1@fest.fr
END:VEVENT
END:VCALENDAR
