BEGIN:VCALENDAR
CALSCALE:GREGORIAN
VERSION:2.0
METHOD:PUBLISH 
X-WR-CALNAME:
BEGIN:VEVENT
DTSTART;TZID=Europe/Paris:20260530T123456
DTEND;TZID=Europe/Paris:20260530T133456
SUMMARY:Visite dansée « Surgir d’entre les murs » - Printemps de l’Art Déco
CATEGORIE:Expositions, Visites et Découvertes
GEO:50.43242300000000;2.82432600000000
LOCATION:Av Elie Reumaux\, 62300 Lens\, France
URL:https://www.fest.fr/e/2358569
UID:2358569-1@fest.fr
END:VEVENT
END:VCALENDAR
