BEGIN:VCALENDAR
CALSCALE:GREGORIAN
VERSION:2.0
METHOD:PUBLISH 
X-WR-CALNAME:
BEGIN:VEVENT
DTSTART;TZID=Europe/Paris:20260420T100000
DTEND;TZID=Europe/Paris:20260420T110000
SUMMARY:Stage théâtre de rue
CATEGORIE:Stages, Ateliers et Initiations
GEO:48.21097584876040;6.71941607301637
LOCATION:2 Pl. Jean Jaurès
Salle de fête\, 88600 Bruyères\, France
URL:https://www.fest.fr/e/2358175
UID:2358175-1@fest.fr
END:VEVENT
END:VCALENDAR
