BEGIN:VCALENDAR
CALSCALE:GREGORIAN
VERSION:2.0
METHOD:PUBLISH 
X-WR-CALNAME:
BEGIN:VEVENT
DTSTART;TZID=Europe/Paris:20260217T100000
DTEND;TZID=Europe/Paris:20260217T110000
SUMMARY:Labomusée Toucher l'art : la matière bois 3-6 ans
CATEGORIE:Stages, Ateliers et Initiations
GEO:49.14451460000000;0.21928450000000
LOCATION:38 Boulevard Pasteur\, 14100 Lisieux\, France
URL:https://www.fest.fr/e/2357724
UID:2357724-1@fest.fr
END:VEVENT
BEGIN:VEVENT
DTSTART;TZID=Europe/Paris:20260424T100000
DTEND;TZID=Europe/Paris:20260424T110000
SUMMARY:Labomusée Toucher l'art : la matière bois 3-6 ans
CATEGORIE:Stages, Ateliers et Initiations
GEO:49.14451460000000;0.21928450000000
LOCATION:38 Boulevard Pasteur\, 14100 Lisieux\, France
URL:https://www.fest.fr/e/2357724
UID:2357724-2@fest.fr
END:VEVENT
END:VCALENDAR
