BEGIN:VCALENDAR
CALSCALE:GREGORIAN
VERSION:2.0
METHOD:PUBLISH 
X-WR-CALNAME:
BEGIN:VEVENT
DTSTART;TZID=Europe/Paris:20260505T143000
DTEND;TZID=Europe/Paris:20260505T153000
SUMMARY:Conférence sur la nutrition : "Boostez vos défenses immunitaires"
CATEGORIE:Conférences, Forums et Débats
GEO:49.28463180000000;-0.12748570000000
LOCATION:4 Avenue André Thiers
Domitys Le Carrousel\, 14390 Cabourg\, France
URL:https://www.fest.fr/e/2357636
UID:2357636-1@fest.fr
END:VEVENT
END:VCALENDAR
