BEGIN:VCALENDAR
CALSCALE:GREGORIAN
VERSION:2.0
METHOD:PUBLISH 
X-WR-CALNAME:
BEGIN:VEVENT
DTSTART;TZID=Europe/Paris:20260516T133000
DTEND;TZID=Europe/Paris:20260516T143000
SUMMARY:Randonnée pédestre : Marcheurs Villeréalais
CATEGORIE:Randonnées et balades
GEO:44.63835220000000;0.74116387000000
LOCATION:Boulevard Alphonse de Poitiers
Parking des Rivierettes\, 47210 Villeréal\, France
URL:https://www.fest.fr/e/2357470
UID:2357470-1@fest.fr
END:VEVENT
END:VCALENDAR
