BEGIN:VCALENDAR
CALSCALE:GREGORIAN
VERSION:2.0
METHOD:PUBLISH 
X-WR-CALNAME:
BEGIN:VEVENT
DTSTART;TZID=Europe/Paris:20260312T123456
DTEND;TZID=Europe/Paris:20260312T133456
SUMMARY:Club lecture
CATEGORIE:Littérature
GEO:43.89702770000000;-0.49326310000000
LOCATION:175, place de la Caserne Bosquet
Place du 6ème R.P.I.Ma\, 40000 Mont-de-Marsan\, France
URL:https://www.fest.fr/e/2357324
UID:2357324-1@fest.fr
END:VEVENT
END:VCALENDAR
