BEGIN:VCALENDAR
CALSCALE:GREGORIAN
VERSION:2.0
METHOD:PUBLISH 
X-WR-CALNAME:
BEGIN:VEVENT
DTSTART;TZID=Europe/Paris:20260426T073000
DTEND;TZID=Europe/Paris:20260426T083000
SUMMARY:randonnée du printemps
CATEGORIE:Randonnées et balades
GEO:46.81576700000000;0.53543900000000
LOCATION:10 rue du Nouveau-Brunswick
Maison pour tous\, 86100 Châtellerault\, France
URL:https://www.fest.fr/e/2356879
UID:2356879-1@fest.fr
END:VEVENT
END:VCALENDAR
