BEGIN:VCALENDAR
CALSCALE:GREGORIAN
VERSION:2.0
METHOD:PUBLISH 
X-WR-CALNAME:
BEGIN:VEVENT
DTSTART;TZID=Europe/Paris:20260613T183000
DTEND;TZID=Europe/Paris:20260613T193000
SUMMARY:Rencontre avec Murielle MAGELLAN "Éloge du Tennis"
CATEGORIE:Littérature
GEO:45.44348430000000;1.40712060000000
LOCATION:Rue des écoles
Stade Jean Nexon\, 19210 Lubersac\, France
URL:https://www.fest.fr/e/2356716
UID:2356716-1@fest.fr
END:VEVENT
END:VCALENDAR
