BEGIN:VCALENDAR
CALSCALE:GREGORIAN
VERSION:2.0
METHOD:PUBLISH 
X-WR-CALNAME:
BEGIN:VEVENT
DTSTART;TZID=Europe/Paris:20260321T123456
DTEND;TZID=Europe/Paris:20260321T133456
SUMMARY:Chiendent et Brèches
CATEGORIE:Spectacles et Théâtre
GEO:46.36906000000000;2.21200100000000
LOCATION:Les Martinats\, 23600 Boussac-Bourg\, France
URL:https://www.fest.fr/e/2356690
UID:2356690-1@fest.fr
END:VEVENT
END:VCALENDAR
