BEGIN:VCALENDAR
CALSCALE:GREGORIAN
VERSION:2.0
METHOD:PUBLISH 
X-WR-CALNAME:
BEGIN:VEVENT
DTSTART;TZID=Europe/Paris:20260425T200000
DTEND;TZID=Europe/Paris:20260425T210000
SUMMARY:Loto de la Cocarde Judo
CATEGORIE:Lotos
GEO:45.15121000000000;-0.82230000000000
LOCATION:4 Rue du Général de Gaulle
Salle des fêtes\, 33112 Saint-Laurent-Médoc\, France
URL:https://www.fest.fr/e/2356598
UID:2356598-1@fest.fr
END:VEVENT
END:VCALENDAR
