BEGIN:VCALENDAR
CALSCALE:GREGORIAN
VERSION:2.0
METHOD:PUBLISH 
X-WR-CALNAME:
BEGIN:VEVENT
DTSTART;TZID=Europe/Paris:20260530T090000
DTEND;TZID=Europe/Paris:20260530T100000
SUMMARY:Randonnée cyclotouriste : MAI A VELO A CHEVILLY
CATEGORIE:Randonnées et balades
GEO:48.77142900000000;2.34782600000000
LOCATION:PARKING MAIRIE\, 88 AVENUE DU GENERAL DE GAULLE\, 94550 Chevilly-Larue\, France
URL:https://www.fest.fr/e/2356258
UID:2356258-1@fest.fr
END:VEVENT
END:VCALENDAR
