BEGIN:VCALENDAR
CALSCALE:GREGORIAN
VERSION:2.0
METHOD:PUBLISH 
X-WR-CALNAME:
BEGIN:VEVENT
DTSTART;TZID=Europe/Paris:20260704T190000
DTEND;TZID=Europe/Paris:20260704T200000
SUMMARY:Concert • Smoky Mountain Blues Band
CATEGORIE:Concerts et Musique
GEO:46.13288000000000;3.45708300000000
LOCATION:Rue Saturnin-Arloing
Square René-Bardet
Thé Cosi / Chez les coincoins\, 03300 Cusset\, France
URL:https://www.fest.fr/e/2356154
UID:2356154-1@fest.fr
END:VEVENT
END:VCALENDAR
