BEGIN:VCALENDAR
CALSCALE:GREGORIAN
VERSION:2.0
METHOD:PUBLISH 
X-WR-CALNAME:
BEGIN:VEVENT
DTSTART;TZID=Europe/Paris:20260305T183000
DTEND;TZID=Europe/Paris:20260305T193000
SUMMARY:Les bousillés
CATEGORIE:Conférences, Forums et Débats
GEO:49.10821639649820;6.18161737918854
LOCATION:1, parvis des Droits-de-l'Homme CS 90490
Le Centre Pompidou-Metz\, 57020 Metz\, France
URL:https://www.fest.fr/e/2356053
UID:2356053-1@fest.fr
END:VEVENT
END:VCALENDAR
