BEGIN:VCALENDAR
CALSCALE:GREGORIAN
VERSION:2.0
METHOD:PUBLISH 
X-WR-CALNAME:
BEGIN:VEVENT
DTSTART;TZID=Europe/Paris:20260510T100000
DTEND;TZID=Europe/Paris:20260510T110000
SUMMARY:La fête du Printemps
CATEGORIE:Marchés, Foires et Salons
GEO:43.85471640000000;5.59323900000000
LOCATION:Place du Générale De Gaulle\, 04280 Céreste\, France
URL:https://www.fest.fr/e/2355677
UID:2355677-1@fest.fr
END:VEVENT
END:VCALENDAR
