BEGIN:VCALENDAR
CALSCALE:GREGORIAN
VERSION:2.0
METHOD:PUBLISH 
X-WR-CALNAME:
BEGIN:VEVENT
DTSTART;TZID=Europe/Paris:20260507T193000
DTEND;TZID=Europe/Paris:20260507T203000
SUMMARY:Spectacle &quot;Ami(s)&quot; par Groupe déjà
CATEGORIE:Spectacles et Théâtre
GEO:47.89805797625937;0.19781274467997
LOCATION:Le Val'Rhonne\, Allée de l'Europe\, 72230 Moncé-en-Belin\, France
URL:https://www.fest.fr/e/2355655
UID:2355655-1@fest.fr
END:VEVENT
END:VCALENDAR
